BEGIN:VCALENDAR
VERSION:2.0
PRODID:-//Squarespace Inc/Squarespace 6//v6//EN
BEGIN:VEVENT
UID:5d3e6bc15339530001bd9ceb@squarespace.com
DTSTAMP:20190729T034515Z
DTSTART:20190916T214500Z
DTEND:20190916T224500Z
SUMMARY:The Learning Space
END:VEVENT
END:VCALENDAR
