BEGIN:VCALENDAR
VERSION:2.0
PRODID:-//Squarespace Inc/Squarespace 6//v6//EN
BEGIN:VEVENT
UID:5d3e6b160458890001902a12@squarespace.com
DTSTAMP:20190729T034219Z
DTSTART:20190922T220000Z
DTEND:20190922T230000Z
SUMMARY:Pascals Herne Bay Daycare
END:VEVENT
END:VCALENDAR
