BEGIN:VCALENDAR
VERSION:2.0
PRODID:-//Squarespace Inc/Squarespace 6//v6//EN
BEGIN:VEVENT
UID:5d3f54e798ec4a000110d0df@squarespace.com
DTSTAMP:20190729T201956Z
DTSTART:20190918T220000Z
DTEND:20190918T230000Z
SUMMARY:Lollipops Newton
END:VEVENT
END:VCALENDAR
