BEGIN:VCALENDAR
VERSION:2.0
PRODID:-//Squarespace Inc/Squarespace 6//v6//EN
BEGIN:VEVENT
UID:5d3f56a29acb670001916cb1@squarespace.com
DTSTAMP:20190729T202717Z
DTSTART:20190926T230000Z
DTEND:20190927T000000Z
SUMMARY:Sunbeams Private Kindergarten
END:VEVENT
END:VCALENDAR
