BEGIN:VCALENDAR
VERSION:2.0
PRODID:-//Squarespace Inc/Squarespace 6//v6//EN
BEGIN:VEVENT
UID:5d3f55fabd97e00001978d93@squarespace.com
DTSTAMP:20190729T202430Z
DTSTART:20190926T004500Z
DTEND:20190926T014500Z
SUMMARY:Blockhouse Bay Baptist Church Kindy
END:VEVENT
END:VCALENDAR
