BEGIN:VCALENDAR
VERSION:2.0
PRODID:-//Squarespace Inc/Squarespace 6//v6//EN
BEGIN:VEVENT
UID:5d3f5690915075000115e4e7@squarespace.com
DTSTAMP:20190729T202703Z
DTSTART:20190919T230000Z
DTEND:20190920T000000Z
SUMMARY:Sunbeams Private Kindergarten
END:VEVENT
END:VCALENDAR
