BEGIN:VCALENDAR
VERSION:2.0
PRODID:-//Squarespace Inc/Squarespace 6//v6//EN
BEGIN:VEVENT
UID:5d3e6be317b49100017e2808@squarespace.com
DTSTAMP:20190729T034544Z
DTSTART:20190909T214500Z
DTEND:20190909T224500Z
SUMMARY:The Learning Space
END:VEVENT
END:VCALENDAR
