BEGIN:VCALENDAR
VERSION:2.0
PRODID:-//Squarespace Inc/Squarespace 6//v6//EN
BEGIN:VEVENT
UID:5d3f54fce190cc0001309aee@squarespace.com
DTSTAMP:20190729T202017Z
DTSTART:20190925T220000Z
DTEND:20190925T230000Z
SUMMARY:Lollipops Newton
END:VEVENT
END:VCALENDAR
