BEGIN:VCALENDAR
VERSION:2.0
PRODID:-//Squarespace Inc/Squarespace 6//v6//EN
BEGIN:VEVENT
UID:5d3f55ed7050320001dad419@squarespace.com
DTSTAMP:20190729T202419Z
DTSTART:20190919T004500Z
DTEND:20190919T014500Z
SUMMARY:Blockhouse Bay Baptist Church Kindy
END:VEVENT
END:VCALENDAR
