BEGIN:VCALENDAR
VERSION:2.0
PRODID:-//Squarespace Inc/Squarespace 6//v6//EN
BEGIN:VEVENT
UID:5d3f54d97050320001dabddb@squarespace.com
DTSTAMP:20190729T201943Z
DTSTART:20190911T220000Z
DTEND:20190911T230000Z
SUMMARY:Lollipops Newton
END:VEVENT
END:VCALENDAR
