BEGIN:VCALENDAR
VERSION:2.0
PRODID:-//Squarespace Inc/Squarespace 6//v6//EN
BEGIN:VEVENT
UID:5d3f5533827dfa00011dad60@squarespace.com
DTSTAMP:20190729T202217Z
DTSTART:20190815T004500Z
DTEND:20190815T014500Z
SUMMARY:Blockhouse Bay Baptist Church Kindy
END:VEVENT
END:VCALENDAR
