BEGIN:VCALENDAR
VERSION:2.0
PRODID:-//Squarespace Inc/Squarespace 6//v6//EN
BEGIN:VEVENT
UID:5d3e6ae29b519f000165e088@squarespace.com
DTSTAMP:20190729T034129Z
DTSTART:20190901T220000Z
DTEND:20190901T230000Z
SUMMARY:Pascals Herne Bay Daycare
END:VEVENT
END:VCALENDAR
