BEGIN:VCALENDAR
VERSION:2.0
PRODID:-//Squarespace Inc/Squarespace 6//v6//EN
BEGIN:VEVENT
UID:5ce323e0f4f5800001554256@squarespace.com
DTSTAMP:20190520T220219Z
DTSTART:20190606T003000Z
DTEND:20190606T013000Z
SUMMARY:Blockhouse Bay Baptist Church
END:VEVENT
END:VCALENDAR
