BEGIN:VCALENDAR
VERSION:2.0
PRODID:-//Squarespace Inc/Squarespace 6//v6//EN
BEGIN:VEVENT
UID:5d3e71b3f9125d00018c6fe4@squarespace.com
DTSTAMP:20190729T041037Z
DTSTART:20190813T004500Z
DTEND:20190813T014500Z
SUMMARY:Blockhouse Bay Baptist Church Kindy
END:VEVENT
END:VCALENDAR
