BEGIN:VCALENDAR
VERSION:2.0
PRODID:-//Squarespace Inc/Squarespace 6//v6//EN
BEGIN:VEVENT
UID:5d3e71c9a5e3b40001e888aa@squarespace.com
DTSTAMP:20190729T041058Z
DTSTART:20190820T004500Z
DTEND:20190820T014500Z
SUMMARY:Blockhouse Bay Baptist Church Kindy
END:VEVENT
END:VCALENDAR
