BEGIN:VCALENDAR
VERSION:2.0
PRODID:-//Squarespace Inc/Squarespace 6//v6//EN
BEGIN:VEVENT
UID:5d3e71f17f6c600001b0cdd7@squarespace.com
DTSTAMP:20190729T041135Z
DTSTART:20190903T004500Z
DTEND:20190903T014500Z
SUMMARY:Blockhouse Bay Baptist Church Kindy
END:VEVENT
END:VCALENDAR
