BEGIN:VCALENDAR
VERSION:2.0
PRODID:-//Squarespace Inc/Squarespace 6//v6//EN
BEGIN:VEVENT
UID:5ce31d78ff49300001ceb2ad@squarespace.com
DTSTAMP:20190520T213453Z
DTSTART:20190530T003000Z
DTEND:20190530T013000Z
SUMMARY:Blockhouse Bay Baptist Church
END:VEVENT
END:VCALENDAR
