BEGIN:VCALENDAR
VERSION:2.0
PRODID:-//Squarespace Inc/Squarespace 6//v6//EN
BEGIN:VEVENT
UID:5ce32b886d45700001922465@squarespace.com
DTSTAMP:20190520T223454Z
DTSTART:20190625T003000Z
DTEND:20190625T013000Z
SUMMARY:Blockhouse Bay Baptist Church
END:VEVENT
END:VCALENDAR
