BEGIN:VCALENDAR
VERSION:2.0
PRODID:-//Squarespace Inc/Squarespace 6//v6//EN
BEGIN:VEVENT
UID:5ce32338808ca700013eea65@squarespace.com
DTSTAMP:20190520T215929Z
DTSTART:20190604T003000Z
DTEND:20190604T013000Z
SUMMARY:Blockhouse Bay Baptist Church
END:VEVENT
END:VCALENDAR
