BEGIN:VCALENDAR
VERSION:2.0
PRODID:-//Squarespace Inc/Squarespace 6//v6//EN
BEGIN:VEVENT
UID:5ce325e8a7bed40001826545@squarespace.com
DTSTAMP:20190520T221100Z
DTSTART:20190613T003000Z
DTEND:20190613T013000Z
SUMMARY:Blockhouse Bay Baptist Church
END:VEVENT
END:VCALENDAR
