BEGIN:VCALENDAR
VERSION:2.0
PRODID:-//Squarespace Inc/Squarespace 6//v6//EN
BEGIN:VEVENT
UID:5ce32a2b3ba3100001a0e356@squarespace.com
DTSTAMP:20190520T222909Z
DTSTART:20190620T003000Z
DTEND:20190620T013000Z
SUMMARY:Blockhouse Bay Baptist Church
END:VEVENT
END:VCALENDAR
