BEGIN:VCALENDAR
VERSION:2.0
PRODID:-//Squarespace Inc/Squarespace 6//v6//EN
BEGIN:VEVENT
UID:5d3f552580da9a0001bd02a6@squarespace.com
DTSTAMP:20190729T202235Z
DTSTART:20190808T004500Z
DTEND:20190808T014500Z
SUMMARY:Blockhouse Bay Baptist Church Kindy
END:VEVENT
END:VCALENDAR
