BEGIN:VCALENDAR
VERSION:2.0
PRODID:-//Squarespace Inc/Squarespace 6//v6//EN
BEGIN:VEVENT
UID:5d3f55d5e190cc000130aba0@squarespace.com
DTSTAMP:20190729T202352Z
DTSTART:20190905T004500Z
DTEND:20190905T014500Z
SUMMARY:Blockhouse Bay Baptist Church Kindy
END:VEVENT
END:VCALENDAR
