BEGIN:VCALENDAR
VERSION:2.0
PRODID:-//Squarespace Inc/Squarespace 6//v6//EN
BEGIN:VEVENT
UID:5d3e6cc4a5e3b40001e84a73@squarespace.com
DTSTAMP:20190729T034945Z
DTSTART:20190826T230000Z
DTEND:20190827T000000Z
SUMMARY:Lollipops Britomart
END:VEVENT
END:VCALENDAR
