BEGIN:VCALENDAR
VERSION:2.0
PRODID:-//Squarespace Inc/Squarespace 6//v6//EN
BEGIN:VEVENT
UID:5d3f5431baa8cd00016d7b75@squarespace.com
DTSTAMP:20190729T201654Z
DTSTART:20190918T030000Z
DTEND:20190918T040000Z
SUMMARY:Grey Lynn School
END:VEVENT
END:VCALENDAR
