BEGIN:VCALENDAR
VERSION:2.0
PRODID:-//Squarespace Inc/Squarespace 6//v6//EN
BEGIN:VEVENT
UID:5d3f5779915075000115f597@squarespace.com
DTSTAMP:20190729T203052Z
DTSTART:20190927T010000Z
DTEND:20190927T020000Z
SUMMARY:Westmere Kindergarten
END:VEVENT
END:VCALENDAR
