BEGIN:VCALENDAR
VERSION:2.0
PRODID:-//Squarespace Inc/Squarespace 6//v6//EN
BEGIN:VEVENT
UID:5d3f574dca6639000114d292@squarespace.com
DTSTAMP:20190729T203013Z
DTSTART:20190920T010000Z
DTEND:20190920T020000Z
SUMMARY:Westmere Kindergarten
END:VEVENT
END:VCALENDAR
