BEGIN:VCALENDAR
VERSION:2.0
PRODID:-//Squarespace Inc/Squarespace 6//v6//EN
BEGIN:VEVENT
UID:5d3f52d5827dfa00011d7f99@squarespace.com
DTSTAMP:20190729T201128Z
DTSTART:20190806T213000Z
DTEND:20190806T223000Z
SUMMARY:Gardner Road Kingergarten
END:VEVENT
END:VCALENDAR
