BEGIN:VCALENDAR
VERSION:2.0
PRODID:-//Squarespace Inc/Squarespace 6//v6//EN
BEGIN:VEVENT
UID:5d3f531298ec4a000110a8de@squarespace.com
DTSTAMP:20190729T201204Z
DTSTART:20190820T213000Z
DTEND:20190820T223000Z
SUMMARY:Gardner Road Kingergarten
END:VEVENT
END:VCALENDAR
