BEGIN:VCALENDAR
VERSION:2.0
PRODID:-//Squarespace Inc/Squarespace 6//v6//EN
BEGIN:VEVENT
UID:5d3f5331baa8cd00016d65db@squarespace.com
DTSTAMP:20190729T201237Z
DTSTART:20190903T213000Z
DTEND:20190903T223000Z
SUMMARY:Gardner Road Kingergarten
END:VEVENT
END:VCALENDAR
