BEGIN:VCALENDAR
VERSION:2.0
PRODID:-//Squarespace Inc/Squarespace 6//v6//EN
BEGIN:VEVENT
UID:5d3f535e120d0b0001b8f912@squarespace.com
DTSTAMP:20190729T201320Z
DTSTART:20190917T213000Z
DTEND:20190917T223000Z
SUMMARY:Gardner Road Kingergarten
END:VEVENT
END:VCALENDAR
