BEGIN:VCALENDAR
VERSION:2.0
PRODID:-//Squarespace Inc/Squarespace 6//v6//EN
BEGIN:VEVENT
UID:5ce32ba0fe6ce300019c8767@squarespace.com
DTSTAMP:20190520T223520Z
DTSTART:20190625T213000Z
DTEND:20190625T223000Z
SUMMARY:Gardner Road Kingergarten
END:VEVENT
END:VCALENDAR
