BEGIN:VCALENDAR
VERSION:2.0
PRODID:-//Squarespace Inc/Squarespace 6//v6//EN
BEGIN:VEVENT
UID:5d3f53b63a374e00016c3079@squarespace.com
DTSTAMP:20190729T201453Z
DTSTART:20190807T030000Z
DTEND:20190807T040000Z
SUMMARY:Grey Lynn School
END:VEVENT
END:VCALENDAR
