BEGIN:VCALENDAR
VERSION:2.0
PRODID:-//Squarespace Inc/Squarespace 6//v6//EN
BEGIN:VEVENT
UID:5d3f53df915075000115ac74@squarespace.com
DTSTAMP:20190729T201542Z
DTSTART:20190821T030000Z
DTEND:20190821T040000Z
SUMMARY:Grey Lynn School
END:VEVENT
END:VCALENDAR
