BEGIN:VCALENDAR
VERSION:2.0
PRODID:-//Squarespace Inc/Squarespace 6//v6//EN
BEGIN:VEVENT
UID:5d3f53f9120d0b0001b9064c@squarespace.com
DTSTAMP:20190729T201557Z
DTSTART:20190828T030000Z
DTEND:20190828T040000Z
SUMMARY:Grey Lynn School
END:VEVENT
END:VCALENDAR
