BEGIN:VCALENDAR
VERSION:2.0
PRODID:-//Squarespace Inc/Squarespace 6//v6//EN
BEGIN:VEVENT
UID:5d3f540afd4a5b000130f61e@squarespace.com
DTSTAMP:20190729T201617Z
DTSTART:20190904T030000Z
DTEND:20190904T040000Z
SUMMARY:Grey Lynn School
END:VEVENT
END:VCALENDAR
