BEGIN:VCALENDAR
VERSION:2.0
PRODID:-//Squarespace Inc/Squarespace 6//v6//EN
BEGIN:VEVENT
UID:5d3f541c3a374e00016c37eb@squarespace.com
DTSTAMP:20190729T201637Z
DTSTART:20190911T030000Z
DTEND:20190911T040000Z
SUMMARY:Grey Lynn School
END:VEVENT
END:VCALENDAR
