BEGIN:VCALENDAR
VERSION:2.0
PRODID:-//Squarespace Inc/Squarespace 6//v6//EN
BEGIN:VEVENT
UID:5ce32945efa2e0000190c742@squarespace.com
DTSTAMP:20190520T222517Z
DTSTART:20190612T030000Z
DTEND:20190612T040000Z
SUMMARY:Grey Lynn School
END:VEVENT
END:VCALENDAR
