BEGIN:VCALENDAR
VERSION:2.0
PRODID:-//Squarespace Inc/Squarespace 6//v6//EN
BEGIN:VEVENT
UID:5ce32ace37c3080001919358@squarespace.com
DTSTAMP:20190520T223149Z
DTSTART:20190619T030000Z
DTEND:20190619T040000Z
SUMMARY:Grey Lynn School
END:VEVENT
END:VCALENDAR
