BEGIN:VCALENDAR
VERSION:2.0
PRODID:-//Squarespace Inc/Squarespace 6//v6//EN
BEGIN:VEVENT
UID:5d3f5398023c4f0001b54570@squarespace.com
DTSTAMP:20190729T201427Z
DTSTART:20190731T030000Z
DTEND:20190731T040000Z
SUMMARY:Grey Lynn School
END:VEVENT
END:VCALENDAR
