BEGIN:VCALENDAR
VERSION:2.0
PRODID:-//Squarespace Inc/Squarespace 6//v6//EN
BEGIN:VEVENT
UID:5d3e6af70fc6b80001530de6@squarespace.com
DTSTAMP:20190729T034148Z
DTSTART:20190908T220000Z
DTEND:20190908T230000Z
SUMMARY:Pascals Herne Bay Daycare
END:VEVENT
END:VCALENDAR
