BEGIN:VCALENDAR
VERSION:2.0
PRODID:-//Squarespace Inc/Squarespace 6//v6//EN
BEGIN:VEVENT
UID:5d3e6c1ab12b300001df1192@squarespace.com
DTSTAMP:20190729T034641Z
DTSTART:20190805T230000Z
DTEND:20190806T000000Z
SUMMARY:Lollipops Britomart
END:VEVENT
END:VCALENDAR
