BEGIN:VCALENDAR
VERSION:2.0
PRODID:-//Squarespace Inc/Squarespace 6//v6//EN
BEGIN:VEVENT
UID:5d3e6cae0fc6b80001532e1d@squarespace.com
DTSTAMP:20190729T034904Z
DTSTART:20190812T230000Z
DTEND:20190813T000000Z
SUMMARY:Lollipops Britomart
END:VEVENT
END:VCALENDAR
