BEGIN:VCALENDAR
VERSION:2.0
PRODID:-//Squarespace Inc/Squarespace 6//v6//EN
BEGIN:VEVENT
UID:5d3e6cb99b519f00016601dd@squarespace.com
DTSTAMP:20190729T034916Z
DTSTART:20190819T230000Z
DTEND:20190820T000000Z
SUMMARY:Lollipops Britomart
END:VEVENT
END:VCALENDAR
