BEGIN:VCALENDAR
VERSION:2.0
PRODID:-//Squarespace Inc/Squarespace 6//v6//EN
BEGIN:VEVENT
UID:5d3e6ce16a69130001173944@squarespace.com
DTSTAMP:20190729T034958Z
DTSTART:20190902T230000Z
DTEND:20190903T000000Z
SUMMARY:Lollipops Britomart
END:VEVENT
END:VCALENDAR
