BEGIN:VCALENDAR
VERSION:2.0
PRODID:-//Squarespace Inc/Squarespace 6//v6//EN
BEGIN:VEVENT
UID:5d3e6d15441216000190bdec@squarespace.com
DTSTAMP:20190729T035047Z
DTSTART:20190909T230000Z
DTEND:20190910T000000Z
SUMMARY:Lollipops Britomart
END:VEVENT
END:VCALENDAR
