BEGIN:VCALENDAR
VERSION:2.0
PRODID:-//Squarespace Inc/Squarespace 6//v6//EN
BEGIN:VEVENT
UID:5d3e6c028fe703000135c35e@squarespace.com
DTSTAMP:20190729T034625Z
DTSTART:20190729T230000Z
DTEND:20190730T000000Z
SUMMARY:Lollipops Britomart
END:VEVENT
END:VCALENDAR
