BEGIN:VCALENDAR
VERSION:2.0
PRODID:-//Squarespace Inc/Squarespace 6//v6//EN
BEGIN:VEVENT
UID:5d3f548b9acb67000191427b@squarespace.com
DTSTAMP:20190729T201825Z
DTSTART:20190807T220000Z
DTEND:20190807T230000Z
SUMMARY:Lollipops Newton
END:VEVENT
END:VCALENDAR
