BEGIN:VCALENDAR
VERSION:2.0
PRODID:-//Squarespace Inc/Squarespace 6//v6//EN
BEGIN:VEVENT
UID:5d3f549a7050320001dab991@squarespace.com
DTSTAMP:20190729T201837Z
DTSTART:20190814T220000Z
DTEND:20190814T230000Z
SUMMARY:Lollipops Newton
END:VEVENT
END:VCALENDAR
