BEGIN:VCALENDAR
VERSION:2.0
PRODID:-//Squarespace Inc/Squarespace 6//v6//EN
BEGIN:VEVENT
UID:5d3f54b7f530e500016edec3@squarespace.com
DTSTAMP:20190729T201907Z
DTSTART:20190821T220000Z
DTEND:20190821T230000Z
SUMMARY:Lollipops Newton
END:VEVENT
END:VCALENDAR
